BEGIN:VCALENDAR
VERSION:2.0
PRODID:-//TEAL ORANGE DIVING (TOD) - Okinawa,JAPAN - ECPv6.15.20//NONSGML v1.0//EN
CALSCALE:GREGORIAN
METHOD:PUBLISH
X-ORIGINAL-URL:https://teal-orange.jp
X-WR-CALDESC:Events for TEAL ORANGE DIVING (TOD) - Okinawa,JAPAN
REFRESH-INTERVAL;VALUE=DURATION:PT1H
X-Robots-Tag:noindex
X-PUBLISHED-TTL:PT1H
BEGIN:VTIMEZONE
TZID:Asia/Tokyo
BEGIN:STANDARD
TZOFFSETFROM:+0900
TZOFFSETTO:+0900
TZNAME:JST
DTSTART:20230101T000000
END:STANDARD
END:VTIMEZONE
BEGIN:VEVENT
DTSTART;TZID=Asia/Tokyo:20240301T080000
DTEND;TZID=Asia/Tokyo:20240302T170000
DTSTAMP:20260422T085106
CREATED:20240226T080715Z
LAST-MODIFIED:20240226T080715Z
UID:3251-1709280000-1709398800@teal-orange.jp
SUMMARY:ADVANCED OPEN WATER DIVER COURSE
DESCRIPTION:Feel free to contact us for alternative dates or if you have any preferences. \nWhatsApp\n\nPreparation before participation\n\nWhen you have a moment\, please fill out the online input form in advance.\nLink in below\nOnline Medical form \n1. Medical form\n2. ⁠Diver activity\n3. Liability release\n4. ⁠Continuing education \nComplete the required fields on these pages\, enter your email address at the end\, and then confirm your email address by tapping 'Confirm Email Address' or '電子メールアドレスを確認' in the email you receive. \n\n\nPayment methods\nWe will send the payment email three days before the event. Payment can be made via credit card\, and there is no additional fee.\n\nCancellation\n3 days before … 50%\nThe day before … 80%\nCancellation on the day… 100%\n*None in case of poor sea conditions.\n\nTransportation\nOur shop is locating Onna Village\nIf you could stay nearby our shop we can pick you up with free of charge.\nIf you have a car we can meet up at dive site.\nNaha 8\,000JPY each way\nGinowan 6000JPY\nChatan 4000JPY\nYomitan 3000JPY\nOnna 2000\neach way for one group
URL:https://teal-orange.jp/dive-schedule/advanced-open-water-diver-course-2/
LOCATION:Sakimotobu\, ５２３２\, 沖縄県国頭郡本部町崎本部\, Okinawa\, 〒9050225\, 日本
CATEGORIES:ADVANCED OPEN WATER DIVER,SCUBA COURSE
ATTACH;FMTTYPE=image/png:https://teal-orange.jp/wp-content/uploads/2023/03/PADI-Learning-AOW-1080-x-1080のコピー.png
ORGANIZER;CN="TEAL ORANGE DIVING":MAILTO:info@teal-orange.jp
END:VEVENT
END:VCALENDAR