BEGIN:VCALENDAR
VERSION:2.0
PRODID:-//TEAL ORANGE DIVING (TOD) - Okinawa,JAPAN - ECPv6.15.20//NONSGML v1.0//EN
CALSCALE:GREGORIAN
METHOD:PUBLISH
X-WR-CALNAME:TEAL ORANGE DIVING (TOD) - Okinawa,JAPAN
X-ORIGINAL-URL:https://teal-orange.jp
X-WR-CALDESC:Events for TEAL ORANGE DIVING (TOD) - Okinawa,JAPAN
REFRESH-INTERVAL;VALUE=DURATION:PT1H
X-Robots-Tag:noindex
X-PUBLISHED-TTL:PT1H
BEGIN:VTIMEZONE
TZID:Asia/Tokyo
BEGIN:STANDARD
TZOFFSETFROM:+0900
TZOFFSETTO:+0900
TZNAME:JST
DTSTART:20230101T000000
END:STANDARD
END:VTIMEZONE
BEGIN:VEVENT
DTSTART;TZID=Asia/Tokyo:20240414T063000
DTEND;TZID=Asia/Tokyo:20240414T140000
DTSTAMP:20260422T072016
CREATED:20240301T133124Z
LAST-MODIFIED:20240301T134638Z
UID:3275-1713076200-1713103200@teal-orange.jp
SUMMARY:Cape Hedo 2boat dives \, Drift and Lime stone cave
DESCRIPTION:What to expect\n\n\n\n\nCape Hedo is located at the northernmost tip of Okinawa Main Island and is a popular diving spot featuring the famous Hedo Dome (Ginama Stalactite Cave). With three additional dive points\, all offering drift diving\, the seasonal spot Payao is especially famous for encountering of oceanic blacktip reef sharks\, and schools of batfish. Each point is within a 15-minute boat ride from the port\, allowing us to return to the port after each dive.\nFeel free to contact us for alternative dates or if you have any preferences.\n\n\n\n\nWhatsApp\n\n\n\n\nPreparation before participation\n\n\nWhen you have a moment\, please fill out the online input form in advance.\nLink in below\nOnline Medical form\n\n1. Medical form\n2. ⁠Diver activity\n3. Liability release\n4. ⁠Continuing education\n\nComplete the required fields on these pages\, enter your email address at the end\, and then confirm your email address by tapping 'Confirm Email Address' or '電子メールアドレスを確認' in the email you receive.\n\n\n\nPayment methods\nWe will send the payment email three days before the event. Payment can be made via credit card\, and there is no additional fee.\n\nCancellation\n3 days before … 50%\nThe day before … 80%\nCancellation on the day… 100%\n*None in case of poor sea conditions.\n\nTransportation\nOur shop is locating Onna Village\nIf you could stay nearby our shop we can pick you up with free of charge.\nIf you have a car we can meet up at dive site.\nNaha 8\,000JPY each way\nGinowan 6000JPY\nChatan 4000JPY\nYomitan 3000JPY\nOnna 2000\neach way for one group
URL:https://teal-orange.jp/dive-schedule/cape-hedo-2boat-dives-drift-and-lime-stone-cave-4/
LOCATION:Ginama port\, 宜名真漁港\, 国頭郡国頭村宜名真\, Okinawa\, 9051422\, 日本
CATEGORIES:Certified Divers Activity
ATTACH;FMTTYPE=image/jpeg:https://teal-orange.jp/wp-content/uploads/2024/01/A7_00095_Original.jpeg
ORGANIZER;CN="TEAL ORANGE DIVING":MAILTO:info@teal-orange.jp
END:VEVENT
END:VCALENDAR