BEGIN:VCALENDAR
VERSION:2.0
PRODID:-//TEAL ORANGE DIVING (TOD) - Okinawa,JAPAN - ECPv6.15.20//NONSGML v1.0//EN
CALSCALE:GREGORIAN
METHOD:PUBLISH
X-ORIGINAL-URL:https://teal-orange.jp
X-WR-CALDESC:Events for TEAL ORANGE DIVING (TOD) - Okinawa,JAPAN
REFRESH-INTERVAL;VALUE=DURATION:PT1H
X-Robots-Tag:noindex
X-PUBLISHED-TTL:PT1H
BEGIN:VTIMEZONE
TZID:Asia/Tokyo
BEGIN:STANDARD
TZOFFSETFROM:+0900
TZOFFSETTO:+0900
TZNAME:JST
DTSTART:20230101T000000
END:STANDARD
END:VTIMEZONE
BEGIN:VEVENT
DTSTART;VALUE=DATE:20240701
DTEND;VALUE=DATE:20240704
DTSTAMP:20260422T024625
CREATED:20240409T114630Z
LAST-MODIFIED:20240409T114652Z
UID:3349-1719792000-1720051199@teal-orange.jp
SUMMARY:PADI Open Water Diver course (2/4 left)
DESCRIPTION:What to expect\n\n\nYour diving adventure begins with the PADI Open Water Dive Course.\nExperience the world beneath the waves with the world's most popular and widely recognized scuba course. \n\n\nWhatsApp\n\nOpen water diver course pre schedule\n\n\n\n\nE-learning\n5days\nHome studying - There are 5 sessions\,knowledge review and final test\n\n\nDay1\n9am - 3pm\nPool training - Be able to swim 200m without any equipment or stops;\n\n\nDay2\n7am - 2pm\n2 shore dives - Open Water Dive1 and 2\n\n\nDay3\n7am - 2pm\n2 boat dives - Open Water Dive3 and 4\n\n\n\nOW course preschedule\n\n\n\n\n\n\n\nPreparation before participation\n\n\nWhen you have a moment\, please fill out the online input form in advance.\nLink in below\nOnline Medical form\n\n 	1. Medical form\n 	2. ⁠Diver activity\n 	3. Liability release\n 	4. ⁠Continuing education\n\nComplete the required fields on these pages\, enter your email address at the end\, and then confirm your email address by tapping 'Confirm Email Address' or '電子メールアドレスを確認' in the email you receive.\n\n\n\nPayment methods\nWe will send the payment email three days before the event. Payment can be made via credit card\, and there is no additional fee.\n\nCancellation\n\n\n 	3 days before … 50%\n 	The day before … 80%\n 	Cancellation on the day… 100%\n\n*None in case of poor sea conditions.\nThe cancellation policy for the Whale Swim excursion is as follows: There is no charge for cancellations made up to 11 days prior to the event. However\, a 100% cancellation fee applies for cancellations made within 10 days of the event.\n\n\n\nTransportation\nOur shop is locating Onna Village\nIf you could stay nearby our shop we can pick you up with free of charge.\nIf you have a car we can meet up at dive site.\n\n 	Naha 8\,000JPY\n 	Ginowan 6000\n 	Chatan 4000\n 	Yomitan 3000\n 	Onna 2000\n\neach way for one group
URL:https://teal-orange.jp/dive-schedule/padi-open-water-diver-course-2-4-left/
LOCATION:Meganeku port\, 前兼久５９\, 国頭郡恩納村\, Okinawa\, 9040414\, 日本
CATEGORIES:OPEN WATER DIVER,SCUBA COURSE
ATTACH;FMTTYPE=image/jpeg:https://teal-orange.jp/wp-content/uploads/2024/01/IMG_1132-e1706889742628.jpg
ORGANIZER;CN="TEAL ORANGE DIVING":MAILTO:info@teal-orange.jp
END:VEVENT
END:VCALENDAR