BEGIN:VCALENDAR
VERSION:2.0
PRODID:-//TEAL ORANGE DIVING (TOD) - Okinawa,JAPAN - ECPv6.15.20//NONSGML v1.0//EN
CALSCALE:GREGORIAN
METHOD:PUBLISH
X-ORIGINAL-URL:https://teal-orange.jp
X-WR-CALDESC:Events for TEAL ORANGE DIVING (TOD) - Okinawa,JAPAN
REFRESH-INTERVAL;VALUE=DURATION:PT1H
X-Robots-Tag:noindex
X-PUBLISHED-TTL:PT1H
BEGIN:VTIMEZONE
TZID:Asia/Tokyo
BEGIN:STANDARD
TZOFFSETFROM:+0900
TZOFFSETTO:+0900
TZNAME:JST
DTSTART:20230101T000000
END:STANDARD
END:VTIMEZONE
BEGIN:VEVENT
DTSTART;TZID=Asia/Tokyo:20240723T080000
DTEND;TZID=Asia/Tokyo:20240723T133000
DTSTAMP:20260422T024626
CREATED:20240523T062217Z
LAST-MODIFIED:20240523T062236Z
UID:3504-1721721600-1721741400@teal-orange.jp
SUMMARY:Blue cave and Coral garden 2boat dives( full )
DESCRIPTION:What to expect\n\n\n\n\nThe famous "Blue Cave" at Maeda Misaki is located in the central part of Okinawa\, and it is a popular dive site not only for scuba diving but also for snorkeling and introductory dives. The cave's interior is spacious\, and with a depth of around 6 meters\, it is shallow enough for beginners to enjoy safely. Another dive site called YAMADA\, where coral cultivation takes place\, allows you to observe several species of anemonefish. A small boat will take you from the port to the dive site\, and after each dive\, you will return to the port in about 10 minutes.\nFeel free to contact us for alternative dates or if you have any preferences.\n\n\n\n\nWhatsApp\n\n\n\n\n\n\n\n\nPreparation before participation\n\n\nWhen you have a moment\, please fill out the online input form in advance.\nLink in below\nOnline Medical form\n\n 	1. Medical form\n 	2. ⁠Diver activity\n 	3. Liability release\n 	4. ⁠Continuing education\n\nComplete the required fields on these pages\, enter your email address at the end\, and then confirm your email address by tapping 'Confirm Email Address' or '電子メールアドレスを確認' in the email you receive.\n\n\n\nPayment methods\nWe will send the payment email three days before the event. Payment can be made via credit card\, and there is no additional fee.\n\nCancellation\n\n\n 	3 days before … 50%\n 	The day before … 80%\n 	Cancellation on the day… 100%\n\n*None in case of poor sea conditions.\nThe cancellation policy for the Whale Swim excursion is as follows: There is no charge for cancellations made up to 11 days prior to the event. However\, a 100% cancellation fee applies for cancellations made within 10 days of the event.\n\n\n\nTransportation\nOur shop is locating Onna Village\nIf you could stay nearby our shop we can pick you up with free of charge.\nIf you have a car we can meet up at dive site.\n\n 	Naha 8\,000JPY\n 	Ginowan 6000\n 	Chatan 4000\n 	Yomitan 3000\n 	Onna 2000\n\neach way for one group
URL:https://teal-orange.jp/dive-schedule/blue-cave-and-coral-garden-2boat-dives-full/
LOCATION:Meganeku port\, 前兼久５９\, 国頭郡恩納村\, Okinawa\, 9040414\, 日本
CATEGORIES:Certified Divers Activity
ATTACH;FMTTYPE=image/jpeg:https://teal-orange.jp/wp-content/uploads/2024/01/IMG_20240115_091931_013_01_10.jpg
END:VEVENT
END:VCALENDAR