BEGIN:VCALENDAR
VERSION:2.0
PRODID:-//TEAL ORANGE DIVING (TOD) - Okinawa,JAPAN - ECPv6.15.20//NONSGML v1.0//EN
CALSCALE:GREGORIAN
METHOD:PUBLISH
X-WR-CALNAME:TEAL ORANGE DIVING (TOD) - Okinawa,JAPAN
X-ORIGINAL-URL:https://teal-orange.jp
X-WR-CALDESC:Events for TEAL ORANGE DIVING (TOD) - Okinawa,JAPAN
REFRESH-INTERVAL;VALUE=DURATION:PT1H
X-Robots-Tag:noindex
X-PUBLISHED-TTL:PT1H
BEGIN:VTIMEZONE
TZID:Asia/Tokyo
BEGIN:STANDARD
TZOFFSETFROM:+0900
TZOFFSETTO:+0900
TZNAME:JST
DTSTART:20230101T000000
END:STANDARD
END:VTIMEZONE
BEGIN:VEVENT
DTSTART;VALUE=DATE:20240726
DTEND;VALUE=DATE:20240728
DTSTAMP:20260422T024514
CREATED:20240409T115219Z
LAST-MODIFIED:20240409T115219Z
UID:3353-1721952000-1722124799@teal-orange.jp
SUMMARY:Advanced Open Water Diver course (Full)
DESCRIPTION:Feel free to contact us for alternative dates or if you have any preferences. \nWhatsApp\n\nPreparation before participation\n\nWhen you have a moment\, please fill out the online input form in advance.\nLink in below\nOnline Medical form \n1. Medical form\n2. ⁠Diver activity\n3. Liability release\n4. ⁠Continuing education \nComplete the required fields on these pages\, enter your email address at the end\, and then confirm your email address by tapping 'Confirm Email Address' or '電子メールアドレスを確認' in the email you receive. \n\n\nPayment methods\nWe will send the payment email three days before the event. Payment can be made via credit card\, and there is no additional fee.\n\nCancellation\n3 days before … 50%\nThe day before … 80%\nCancellation on the day… 100%\n*None in case of poor sea conditions.\n\nTransportation\nOur shop is locating Onna Village\nIf you could stay nearby our shop we can pick you up with free of charge.\nIf you have a car we can meet up at dive site.\nNaha 8\,000JPY each way\nGinowan 6000JPY\nChatan 4000JPY\nYomitan 3000JPY\nOnna 2000\neach way for one group
URL:https://teal-orange.jp/dive-schedule/advanced-open-water-diver-course-full/
LOCATION:Seragaki port\, 瀬良垣漁港\, 国頭郡恩納村瀬良垣\, Okinawa\, 9040404\, 日本
CATEGORIES:ADVANCED OPEN WATER DIVER,SCUBA COURSE
ATTACH;FMTTYPE=image/jpeg:https://teal-orange.jp/wp-content/uploads/2024/01/A7_09879.jpg
ORGANIZER;CN="TEAL ORANGE DIVING":MAILTO:info@teal-orange.jp
END:VEVENT
BEGIN:VEVENT
DTSTART;TZID=Asia/Tokyo:20240726T183000
DTEND;TZID=Asia/Tokyo:20240726T220000
DTSTAMP:20260422T024514
CREATED:20240523T061029Z
LAST-MODIFIED:20240523T061359Z
UID:3499-1722018600-1722031200@teal-orange.jp
SUMMARY:Night dive(Full)
DESCRIPTION:What to expect\n\n\n\n\nSunabe is located near the famous American Village in Okinawa\, and it's known as Seawall. It's a popular dive site among divers\, with abundant soft corals where you can observe various species of squid and octopus during night dives.\nEANx\, SIDEMOUNT\, and Double tank options are also available. Feel free to contact us for alternative dates or if you have any preferences.\n\n\n\n\nWhatsApp\n\n\n\n\n\n\n\n\nPreparation before participation\n\n\nWhen you have a moment\, please fill out the online input form in advance.\nLink in below\nOnline Medical form\n\n 	1. Medical form\n 	2. ⁠Diver activity\n 	3. Liability release\n 	4. ⁠Continuing education\n\nComplete the required fields on these pages\, enter your email address at the end\, and then confirm your email address by tapping 'Confirm Email Address' or '電子メールアドレスを確認' in the email you receive.\n\n\n\nPayment methods\nWe will send the payment email three days before the event. Payment can be made via credit card\, and there is no additional fee.\n\nCancellation\n\n\n 	3 days before … 50%\n 	The day before … 80%\n 	Cancellation on the day… 100%\n\n*None in case of poor sea conditions.\nThe cancellation policy for the Whale Swim excursion is as follows: There is no charge for cancellations made up to 11 days prior to the event. However\, a 100% cancellation fee applies for cancellations made within 10 days of the event.\n\n\n\nTransportation\nOur shop is locating Onna Village\nIf you could stay nearby our shop we can pick you up with free of charge.\nIf you have a car we can meet up at dive site.\n\n 	Naha 8\,000JPY\n 	Ginowan 6000\n 	Chatan 4000\n 	Yomitan 3000\n 	Onna 2000\n\neach way for one group
URL:https://teal-orange.jp/dive-schedule/night-divefull/
LOCATION:Seragaki port\, 瀬良垣漁港\, 国頭郡恩納村瀬良垣\, Okinawa\, 9040404\, 日本
CATEGORIES:ADVANCED OPEN WATER DIVER,Certified Divers Activity,SCUBA COURSE
ATTACH;FMTTYPE=image/jpeg:https://teal-orange.jp/wp-content/uploads/2024/01/A7_08609.jpg
ORGANIZER;CN="TEAL ORANGE DIVING":MAILTO:info@teal-orange.jp
END:VEVENT
END:VCALENDAR