BEGIN:VCALENDAR
VERSION:2.0
PRODID:-//TEAL ORANGE DIVING (TOD) - Okinawa,JAPAN - ECPv6.15.20//NONSGML v1.0//EN
CALSCALE:GREGORIAN
METHOD:PUBLISH
X-WR-CALNAME:TEAL ORANGE DIVING (TOD) - Okinawa,JAPAN
X-ORIGINAL-URL:https://teal-orange.jp
X-WR-CALDESC:Events for TEAL ORANGE DIVING (TOD) - Okinawa,JAPAN
REFRESH-INTERVAL;VALUE=DURATION:PT1H
X-Robots-Tag:noindex
X-PUBLISHED-TTL:PT1H
BEGIN:VTIMEZONE
TZID:Asia/Tokyo
BEGIN:STANDARD
TZOFFSETFROM:+0900
TZOFFSETTO:+0900
TZNAME:JST
DTSTART:20230101T000000
END:STANDARD
END:VTIMEZONE
BEGIN:VEVENT
DTSTART;TZID=Asia/Tokyo:20240803T070000
DTEND;TZID=Asia/Tokyo:20240803T153000
DTSTAMP:20260422T010414
CREATED:20240517T122229Z
LAST-MODIFIED:20240517T122229Z
UID:3484-1722668400-1722699000@teal-orange.jp
SUMMARY:Kerama 3 boat dives day trip  ( 1slot left )
DESCRIPTION:What to expect\n\n\n\n\n\n\n\nWhatsApp\n\n\n\nPreparation before participation\n\n\nWhen you have a moment\, please fill out the online input form in advance.\nLink in below\nOnline Medical form\n\n 	1. Medical form\n 	2. ⁠Diver activity\n 	3. Liability release\n 	4. ⁠Continuing education\n\nComplete the required fields on these pages\, enter your email address at the end\, and then confirm your email address by tapping 'Confirm Email Address' or '電子メールアドレスを確認' in the email you receive.\n\n\n\nPayment methods\nWe will send the payment email three days before the event. Payment can be made via credit card\, and there is no additional fee.\n\nCancellation\n3 days before … 50%\nThe day before … 80%\nCancellation on the day… 100%\n*None in case of poor sea conditions.\n\nTransportation\nOur shop is locating Onna Village\nIf you could stay nearby our shop we can pick you up with free of charge.\nIf you have a car we can meet up at dive site.\n\n 	Naha 8\,000JPY\n 	Ginowan 6000\n 	Chatan 4000\n 	Yomitan 3000\n 	Onna 2000\n\neach way for one group
URL:https://teal-orange.jp/dive-schedule/kerama-3-boat-dives-day-trip-1slot-left/
LOCATION:Migusuku port\, 西3丁目20\, 沖縄県那覇市\, Okinawa\, 9000036\, 日本
CATEGORIES:Certified Divers Activity
ATTACH;FMTTYPE=image/jpeg:https://teal-orange.jp/wp-content/uploads/2021/05/G0022525-scaled.jpg
ORGANIZER;CN="TEAL ORANGE DIVING":MAILTO:info@teal-orange.jp
END:VEVENT
END:VCALENDAR