BEGIN:VCALENDAR
VERSION:2.0
PRODID:-//TEAL ORANGE DIVING (TOD) - Okinawa,JAPAN - ECPv6.15.20//NONSGML v1.0//EN
CALSCALE:GREGORIAN
METHOD:PUBLISH
X-ORIGINAL-URL:https://teal-orange.jp
X-WR-CALDESC:Events for TEAL ORANGE DIVING (TOD) - Okinawa,JAPAN
REFRESH-INTERVAL;VALUE=DURATION:PT1H
X-Robots-Tag:noindex
X-PUBLISHED-TTL:PT1H
BEGIN:VTIMEZONE
TZID:Asia/Tokyo
BEGIN:STANDARD
TZOFFSETFROM:+0900
TZOFFSETTO:+0900
TZNAME:JST
DTSTART:20230101T000000
END:STANDARD
END:VTIMEZONE
BEGIN:VEVENT
DTSTART;TZID=Asia/Tokyo:20241010T073000
DTEND;TZID=Asia/Tokyo:20241010T180000
DTSTAMP:20260421T220922
CREATED:20240906T050309Z
LAST-MODIFIED:20250807T141158Z
UID:4034-1728545400-1728583200@teal-orange.jp
SUMMARY:Ie island 3boat dives ( 4 ppl left )
DESCRIPTION:OPTIONS\nGUIDED DIVING\n\n\n\n\n2dives\n24\,000 or $160\n\n\n3dives (only summer : June to October )\n28\,000 or $190\n\n\nSIDEMOUNT 2dives (in preparation)\n28\,000 or $190\n\n\nDouble tank 2dives (in preparation)\n28\,000 or $190\n\n\n\n\n\n\n\n\n\n\n\n\n\n\nPick up (Onna area)\n7:45\n\n\nMeet at Motobu port\n8:30\n\n\n1st dive\n10:00\n\n\n2nd dive\n11:30\n\n\nLunch time\n1:00\n\n\n3rd dive\n2:00\n\n\nDrop off\n3:00 / 6:00\n\n\n\nSet schedule\n\n\n\n\n\n\n\n\n\n\n\n\n\n\n\n\nPreparation before participation\n\n\nWhen you have a moment\, please fill out the online input form in advance.\n\nLink in below\nOnline Medical form\n1. Medical form\n2. ⁠Diver activity\n3. Liability release\n4. ⁠Continuing education\nComplete the required fields on these pages\, enter your email address at the end\, and then confirm your email address by tapping 'Confirm Email Address' or '電子メールアドレスを確認' in the email you receive.\n\n\n\nPayment methods\nWe will send the payment email three days before the event. Payment can be made via credit card\, and there is no additional fee.\n\nCancellation\n3 days before … 50%\nThe day before … 80%\nCancellation on the day… 100%\n\n*None in case of poor sea conditions.\nThe cancellation policy for the Whale Swim excursion is as follows: There is no charge for cancellations made up to 11 days prior to the event. However\, a 100% cancellation fee applies for cancellations made within 10 days of the event.\n\nTransportation\nOur shop is locating Onna Village\nIf you could stay nearby our shop we can pick you up with free of charge.\nIf you have a car we can meet up at dive site.\n\n 	Naha 8\,000JPY\n 	Ginowan 6000\n 	Chatan 4000\n 	Yomitan 3000\n 	Onna 2000\n\neach way for one group\n\n\n\n\n\n\n\n\n\n\n\n\n\nWhatsApp\n\n\nPrice\n\n\n\n\n\n\n\nOPTIONS\nGUIDED DIVING\n\n\n\n\n2dives\n24\,000 or $160\n\n\n3dives (only summer : June to October )\n28\,000 or $190\n\n\nSIDEMOUNT 2dives (in preparation)\n28\,000 or $190\n\n\nDouble tank 2dives (in preparation)\n28\,000 or $190\n\n\n\n\n\n\n\n\n\n\n\n\n\n\nPick up (Onna area)\n7:45\n\n\nMeet at Motobu port\n8:30\n\n\n1st dive\n10:00\n\n\n2nd dive\n11:30\n\n\nLunch time\n1:00\n\n\n3rd dive\n2:00\n\n\nDrop off\n3:00 / 6:00\n\n\n\nSet schedule\n\n\n\n\n\n\n\n\n\n\n\n\n\n\n\n\nPreparation before participation\n\n\nWhen you have a moment\, please fill out the online input form in advance.\n\nLink in below\nOnline Medical form\n1. Medical form\n2. ⁠Diver activity\n3. Liability release\n4. ⁠Continuing education\nComplete the required fields on these pages\, enter your email address at the end\, and then confirm your email address by tapping 'Confirm Email Address' or '電子メールアドレスを確認' in the email you receive.\n\n\n\nPayment methods\nWe will send the payment email three days before the event. Payment can be made via credit card\, and there is no additional fee.\n\nCancellation\n3 days before … 50%\nThe day before … 80%\nCancellation on the day… 100%\n\n*None in case of poor sea conditions.\nThe cancellation policy for the Whale Swim excursion is as follows: There is no charge for cancellations made up to 11 days prior to the event. However\, a 100% cancellation fee applies for cancellations made within 10 days of the event.\n\nTransportation\nOur shop is locating Onna Village\nIf you could stay nearby our shop we can pick you up with free of charge.\nIf you have a car we can meet up at dive site.\n\n 	Naha 8\,000JPY\n 	Ginowan 6000\n 	Chatan 4000\n 	Yomitan 3000\n 	Onna 2000\n\neach way for one group\n\n\n\n\n\n\n\n\n\n\n\n\n \n\n\nWhat to expect\n\n\n\n\nIejima is a small remote island\, just a 30-minute ferry ride from Okinawa Main Island. There are numerous dive sites around Iejima\, offering opportunities for exploring underwater terrain and sandy areas. One particular favorite spot is the large cave called "Ohoba" in the topography area. We also offer a 1-night\, 2-day \, 5dives plan\, so please feel free to inquire for more details. Feel free to contact us for alternative dates or if you have any preferences.\n\n\n\n\nWhatsApp\n\n\nPrice\n\n\n\n\n\n\n\nOPTIONS\nGUIDED DIVING\n\n\n\n\n2dives\n24\,000 or $160\n\n\n3dives (only summer : June to October )\n28\,000 or $190\n\n\nSIDEMOUNT 2dives (in preparation)\n28\,000 or $190\n\n\nDouble tank 2dives (in preparation)\n28\,000 or $190\n\n\n\n\n\n\n\n\n\n\n\n\n\n\nPick up (Onna area)\n7:45\n\n\nMeet at Motobu port\n8:30\n\n\n1st dive\n10:00\n\n\n2nd dive\n11:30\n\n\nLunch time\n1:00\n\n\n3rd dive\n2:00\n\n\nDrop off\n3:00 / 6:00\n\n\n\nSet schedule\n\n\n\n\n\n\n\n\n\n\n\n\n\n\n\n\nPreparation before participation\n\n\nWhen you have a moment\, please fill out the online input form in advance.\n\nLink in below\nOnline Medical form\n1. Medical form\n2. ⁠Diver activity\n3. Liability release\n4. ⁠Continuing education\nComplete the required fields on these pages\, enter your email address at the end\, and then confirm your email address by tapping 'Confirm Email Address' or '電子メールアドレスを確認' in the email you receive.\n\n\n\nPayment methods\nWe will send the payment email three days before the event. Payment can be made via credit card\, and there is no additional fee.\n\nCancellation\n3 days before … 50%\nThe day before … 80%\nCancellation on the day… 100%\n\n*None in case of poor sea conditions.\nThe cancellation policy for the Whale Swim excursion is as follows: There is no charge for cancellations made up to 11 days prior to the event. However\, a 100% cancellation fee applies for cancellations made within 10 days of the event.\n\nTransportation\nOur shop is locating Onna Village\nIf you could stay nearby our shop we can pick you up with free of charge.\nIf you have a car we can meet up at dive site.\n\n 	Naha 8\,000JPY\n 	Ginowan 6000\n 	Chatan 4000\n 	Yomitan 3000\n 	Onna 2000\n\neach way for one group
URL:https://teal-orange.jp/dive-schedule/ie-island-3boat-dives-4-ppl-left/
LOCATION:Sakimotobu\, ５２３２\, 沖縄県国頭郡本部町崎本部\, Okinawa\, 〒9050225\, 日本
CATEGORIES:Certified Divers Activity
ATTACH;FMTTYPE=image/jpeg:https://teal-orange.jp/wp-content/uploads/2024/01/A7_08038.jpg
ORGANIZER;CN="TEAL ORANGE DIVING":MAILTO:info@teal-orange.jp
END:VEVENT
END:VCALENDAR