BEGIN:VCALENDAR
VERSION:2.0
PRODID:-//TEAL ORANGE DIVING (TOD) - Okinawa,JAPAN - ECPv6.15.20//NONSGML v1.0//EN
CALSCALE:GREGORIAN
METHOD:PUBLISH
X-WR-CALNAME:TEAL ORANGE DIVING (TOD) - Okinawa,JAPAN
X-ORIGINAL-URL:https://teal-orange.jp
X-WR-CALDESC:Events for TEAL ORANGE DIVING (TOD) - Okinawa,JAPAN
REFRESH-INTERVAL;VALUE=DURATION:PT1H
X-Robots-Tag:noindex
X-PUBLISHED-TTL:PT1H
BEGIN:VTIMEZONE
TZID:Asia/Tokyo
BEGIN:STANDARD
TZOFFSETFROM:+0900
TZOFFSETTO:+0900
TZNAME:JST
DTSTART:20230101T000000
END:STANDARD
END:VTIMEZONE
BEGIN:VEVENT
DTSTART;VALUE=DATE:20240402
DTEND;VALUE=DATE:20240404
DTSTAMP:20260422T054433
CREATED:20240117T040727Z
LAST-MODIFIED:20240117T040727Z
UID:2393-1712016000-1712188799@teal-orange.jp
SUMMARY:ADVANCED OPEN WATER DIVER COURSE
DESCRIPTION:Feel free to contact us for alternative dates or if you have any preferences. \nWhatsApp\n\nPreparation before participation\n\nWhen you have a moment\, please fill out the online input form in advance.\nLink in below\nOnline Medical form \n1. Medical form\n2. ⁠Diver activity\n3. Liability release\n4. ⁠Continuing education \nComplete the required fields on these pages\, enter your email address at the end\, and then confirm your email address by tapping 'Confirm Email Address' or '電子メールアドレスを確認' in the email you receive. \n\n\nPayment methods\nWe will send the payment email three days before the event. Payment can be made via credit card\, and there is no additional fee.\n\nCancellation\n3 days before … 50%\nThe day before … 80%\nCancellation on the day… 100%\n*None in case of poor sea conditions.\n\nTransportation\nOur shop is locating Onna Village\nIf you could stay nearby our shop we can pick you up with free of charge.\nIf you have a car we can meet up at dive site.\nNaha 8\,000JPY each way\nGinowan 6000JPY\nChatan 4000JPY\nYomitan 3000JPY\nOnna 2000\neach way for one group
URL:https://teal-orange.jp/dive-schedule/advanced-open-water-diver-course/
CATEGORIES:ADVANCED OPEN WATER DIVER,SCUBA COURSE
ATTACH;FMTTYPE=image/png:https://teal-orange.jp/wp-content/uploads/2023/03/PADI-Learning-AOW-1080-x-1080のコピー.png
END:VEVENT
BEGIN:VEVENT
DTSTART;TZID=Asia/Tokyo:20240405T073000
DTEND;TZID=Asia/Tokyo:20240405T123000
DTSTAMP:20260422T054433
CREATED:20240402T084122Z
LAST-MODIFIED:20240402T084122Z
UID:3315-1712302200-1712320200@teal-orange.jp
SUMMARY:Minna / Sesoko island \, 2 boat dives ( 2slots left )
DESCRIPTION:What to expect\n\n\n\nMinna Island is a small island located northwest of the main island of Okinawa. Currently\, about 50 people live on the island\, which also has an elementary and junior high school. It can only be reached by boat from the main island of Okinawa. Dive points are located on the east side of the island. There are several separate reefs on the white sandy beach\, where many fish are schooling.\nFeel free to contact us for alternative dates or if you have any preferences. \n\n\n\nWhatsApp\n\n\n\n\n\n\n\n\nPrice ; $130~\n\n\n\n\n\n\n\nOPTIONS\nGUIDED DIVING\nDiscover Scuba Diving\n\n\n\n\n2dives\n19\,000 or $130\n23\,000 or $160\n\n\n3dives\n23\,000 or $160\n\n\n\nSIDEMOUNT 2dives\n25\,000 or $170\n\n\n\nEANx\n1cylinder / + 2\,000 or $15\n\n\n\n\n\n\n\n\n\n\n\n\nEquipments rental / Day\n\n\n\n\n\nFull rental\n5\,000 or $40\n\n\nBCD \, Regulator \, wetsuit\n1\,500 or $10 / each\n\n\nFin and Boots\n1\,500 or $10\n\n\nMask and Snorkel\n1\,000 or $7\n\n\nTorch ( Flash light )\n1\,000 or $7\n\n\nDive computer\n1\,000 or $7\n\n\n\n\n\n\n\n\n\n\n\n\nThe schedule of the day\n\n\n\n\n\n\n\nPick up (Onna area)\n7:00\n\n\nMeet at the Dive Site : Toguchi port\n7:45\n\n\n1st and 2nd dive\n8:30\n\n\nLunch time at port\n12:00\n\n\n3rd dive\n1:00\n\n\n4th dive\n2:30\n\n\nDrop off\n1:00 \, 3:00 \, 4:30\n\n\n\nSet schedule\n\n\n\n\n\n\n\n\n\n\n\nPreparation before participation\n\n\nWhen you have a moment\, please fill out the online input form in advance.\n\nLink in below\nOnline Medical form\n1. Medical form\n2. ⁠Diver activity\n3. Liability release\n4. ⁠Continuing education\nComplete the required fields on these pages\, enter your email address at the end\, and then confirm your email address by tapping 'Confirm Email Address' or '電子メールアドレスを確認' in the email you receive.\n\n\n\nPayment methods\nWe will send the payment email three days before the event. Payment can be made via credit card\, and there is no additional fee.\n\nCancellation\n3 days before … 50%\nThe day before … 80%\nCancellation on the day… 100%\n\n*None in case of poor sea conditions.\nThe cancellation policy for the Whale Swim excursion is as follows: There is no charge for cancellations made up to 11 days prior to the event. However\, a 100% cancellation fee applies for cancellations made within 10 days of the event.\n\nTransportation\nOur shop is locating Onna Village\nIf you could stay nearby our shop we can pick you up with free of charge.\nIf you have a car we can meet up at dive site.\n\n 	Naha 8\,000JPY\n 	Ginowan 6000\n 	Chatan 4000\n 	Yomitan 3000\n 	Onna 2000\n\neach way for one group
URL:https://teal-orange.jp/dive-schedule/minna-sesoko-island-2-boat-dives-2slots-left-4/
LOCATION:Toguchi port / 渡久地漁港\, MV5V+J2R 本部町、沖縄県\, 国頭郡本部町\, Okinawa\, 9050213\, 日本
CATEGORIES:Certified Divers Activity
ATTACH;FMTTYPE=image/jpeg:https://teal-orange.jp/wp-content/uploads/2024/02/A7_08741.jpg
ORGANIZER;CN="TEAL ORANGE DIVING":MAILTO:info@teal-orange.jp
END:VEVENT
BEGIN:VEVENT
DTSTART;TZID=Asia/Tokyo:20240407T073000
DTEND;TZID=Asia/Tokyo:20240407T123000
DTSTAMP:20260422T054433
CREATED:20240402T084235Z
LAST-MODIFIED:20240402T084235Z
UID:3317-1712475000-1712493000@teal-orange.jp
SUMMARY:Minna / Sesoko island \, 2 boat dives ( 2slots left )
DESCRIPTION:What to expect\n\n\n\nMinna Island is a small island located northwest of the main island of Okinawa. Currently\, about 50 people live on the island\, which also has an elementary and junior high school. It can only be reached by boat from the main island of Okinawa. Dive points are located on the east side of the island. There are several separate reefs on the white sandy beach\, where many fish are schooling.\nFeel free to contact us for alternative dates or if you have any preferences. \n\n\n\nWhatsApp\n\n\n\n\n\n\n\n\nPrice ; $130~\n\n\n\n\n\n\n\nOPTIONS\nGUIDED DIVING\nDiscover Scuba Diving\n\n\n\n\n2dives\n19\,000 or $130\n23\,000 or $160\n\n\n3dives\n23\,000 or $160\n\n\n\nSIDEMOUNT 2dives\n25\,000 or $170\n\n\n\nEANx\n1cylinder / + 2\,000 or $15\n\n\n\n\n\n\n\n\n\n\n\n\nEquipments rental / Day\n\n\n\n\n\nFull rental\n5\,000 or $40\n\n\nBCD \, Regulator \, wetsuit\n1\,500 or $10 / each\n\n\nFin and Boots\n1\,500 or $10\n\n\nMask and Snorkel\n1\,000 or $7\n\n\nTorch ( Flash light )\n1\,000 or $7\n\n\nDive computer\n1\,000 or $7\n\n\n\n\n\n\n\n\n\n\n\n\nThe schedule of the day\n\n\n\n\n\n\n\nPick up (Onna area)\n7:00\n\n\nMeet at the Dive Site : Toguchi port\n7:45\n\n\n1st and 2nd dive\n8:30\n\n\nLunch time at port\n12:00\n\n\n3rd dive\n1:00\n\n\n4th dive\n2:30\n\n\nDrop off\n1:00 \, 3:00 \, 4:30\n\n\n\nSet schedule\n\n\n\n\n\n\n\n\n\n\n\nPreparation before participation\n\n\nWhen you have a moment\, please fill out the online input form in advance.\n\nLink in below\nOnline Medical form\n1. Medical form\n2. ⁠Diver activity\n3. Liability release\n4. ⁠Continuing education\nComplete the required fields on these pages\, enter your email address at the end\, and then confirm your email address by tapping 'Confirm Email Address' or '電子メールアドレスを確認' in the email you receive.\n\n\n\nPayment methods\nWe will send the payment email three days before the event. Payment can be made via credit card\, and there is no additional fee.\n\nCancellation\n3 days before … 50%\nThe day before … 80%\nCancellation on the day… 100%\n\n*None in case of poor sea conditions.\nThe cancellation policy for the Whale Swim excursion is as follows: There is no charge for cancellations made up to 11 days prior to the event. However\, a 100% cancellation fee applies for cancellations made within 10 days of the event.\n\nTransportation\nOur shop is locating Onna Village\nIf you could stay nearby our shop we can pick you up with free of charge.\nIf you have a car we can meet up at dive site.\n\n 	Naha 8\,000JPY\n 	Ginowan 6000\n 	Chatan 4000\n 	Yomitan 3000\n 	Onna 2000\n\neach way for one group
URL:https://teal-orange.jp/dive-schedule/minna-sesoko-island-2-boat-dives-2slots-left-5/
LOCATION:Toguchi port / 渡久地漁港\, MV5V+J2R 本部町、沖縄県\, 国頭郡本部町\, Okinawa\, 9050213\, 日本
CATEGORIES:Certified Divers Activity
ATTACH;FMTTYPE=image/jpeg:https://teal-orange.jp/wp-content/uploads/2024/02/A7_07110.jpg
ORGANIZER;CN="TEAL ORANGE DIVING":MAILTO:info@teal-orange.jp
END:VEVENT
BEGIN:VEVENT
DTSTART;TZID=Asia/Tokyo:20240410T073000
DTEND;TZID=Asia/Tokyo:20240410T163000
DTSTAMP:20260422T054433
CREATED:20240117T041203Z
LAST-MODIFIED:20240402T085118Z
UID:2397-1712734200-1712766600@teal-orange.jp
SUMMARY:Manza 3 boat dives \,Dream hole ( 3 spots left )
DESCRIPTION:What to expect\n\n\n\nManza is a dive site located in the north part of Okinawa\, accessible from the Seragaki Fishing Port by a small boat. There are six dive points\, each reachable within 5 to 10 minutes from the port\, allowing divers to return after each dive. The highlights include two types of diving experiences - exploring the terrain and sandy areas. Divers can enjoy observing various marine life such as White-tip sharks\, sea turtles\, nudibranchs\, seahorses\, frogfish\, and more. The diving style involves anchoring. EANx\, SIDEMOUNT\, and Double tanks options are also available.\nFeel free to contact us for alternative dates or if you have any preferences. \n\n\n\nWhatsApp\n\n\n\nPreparation before participation\n\n\nWhen you have a moment\, please fill out the online input form in advance.\nLink in below\nOnline Medical form\n\n 	1. Medical form\n 	2. ⁠Diver activity\n 	3. Liability release\n 	4. ⁠Continuing education\n\nComplete the required fields on these pages\, enter your email address at the end\, and then confirm your email address by tapping 'Confirm Email Address' or '電子メールアドレスを確認' in the email you receive.\n\n\n\nPayment methods\nWe will send the payment email three days before the event. Payment can be made via credit card\, and there is no additional fee.\n\nCancellation\n3 days before … 50%\nThe day before … 80%\nCancellation on the day… 100%\n*None in case of poor sea conditions.\n\nTransportation\nOur shop is locating Onna Village\nIf you could stay nearby our shop we can pick you up with free of charge.\nIf you have a car we can meet up at dive site.\n\n 	Naha 8\,000JPY\n 	Ginowan 6000\n 	Chatan 4000\n 	Yomitan 3000\n 	Onna 2000\n\neach way for one group
URL:https://teal-orange.jp/dive-schedule/manza-3-boat-dives-dream-hole-4/
LOCATION:Seragaki port\, 瀬良垣漁港\, 国頭郡恩納村瀬良垣\, Okinawa\, 9040404\, 日本
CATEGORIES:Certified Divers Activity
ATTACH;FMTTYPE=image/jpeg:https://teal-orange.jp/wp-content/uploads/2023/03/A7_03759.jpg
END:VEVENT
BEGIN:VEVENT
DTSTART;TZID=Asia/Tokyo:20240411T063000
DTEND;TZID=Asia/Tokyo:20240411T140000
DTSTAMP:20260422T054433
CREATED:20240117T041333Z
LAST-MODIFIED:20240122T135920Z
UID:2399-1712817000-1712844000@teal-orange.jp
SUMMARY:Cape Hedo 2boat dives \, Drift and Lime stone cave
DESCRIPTION:Feel free to contact us for alternative dates or if you have any preferences.\nWhatsApp\n\nPreparation before participation\n\n\nWhen you have a moment\, please fill out the online input form in advance.\nLink in below\nOnline Medical form\n\n1. Medical form\n2. ⁠Diver activity\n3. Liability release\n4. ⁠Continuing education\n\nComplete the required fields on these pages\, enter your email address at the end\, and then confirm your email address by tapping 'Confirm Email Address' or '電子メールアドレスを確認' in the email you receive.\n\n\n\nPayment methods\nWe will send the payment email three days before the event. Payment can be made via credit card\, and there is no additional fee.\n\nCancellation\n3 days before … 50%\nThe day before … 80%\nCancellation on the day… 100%\n*None in case of poor sea conditions.\n\nTransportation\nOur shop is locating Onna Village\nIf you could stay nearby our shop we can pick you up with free of charge.\nIf you have a car we can meet up at dive site.\nNaha 8\,000JPY each way\nGinowan 6000JPY\nChatan 4000JPY\nYomitan 3000JPY\nOnna 2000\neach way for one group
URL:https://teal-orange.jp/dive-schedule/cape-hedo-2boat-dives-drift-and-lime-stone-cave-2/
LOCATION:Ginama port\, 宜名真漁港\, 国頭郡国頭村宜名真\, Okinawa\, 9051422\, 日本
CATEGORIES:Certified Divers Activity
ATTACH;FMTTYPE=image/jpeg:https://teal-orange.jp/wp-content/uploads/2024/01/A7_00095_Original.jpeg
END:VEVENT
BEGIN:VEVENT
DTSTART;TZID=Asia/Tokyo:20240413T080000
DTEND;TZID=Asia/Tokyo:20240413T153000
DTSTAMP:20260422T054433
CREATED:20240301T132857Z
LAST-MODIFIED:20240402T085139Z
UID:3272-1712995200-1713022200@teal-orange.jp
SUMMARY:Manza 3 boat dives \,Dream hole (Full)
DESCRIPTION:What to expect\n\n\n\nManza is a dive site located in the north part of Okinawa\, accessible from the Seragaki Fishing Port by a small boat. There are six dive points\, each reachable within 5 to 10 minutes from the port\, allowing divers to return after each dive. The highlights include two types of diving experiences - exploring the terrain and sandy areas. Divers can enjoy observing various marine life such as White-tip sharks\, sea turtles\, nudibranchs\, seahorses\, frogfish\, and more. The diving style involves anchoring. EANx\, SIDEMOUNT\, and Double tanks options are also available.\nFeel free to contact us for alternative dates or if you have any preferences. \n\n\n\nWhatsApp\n\n\n\nPreparation before participation\n\n\nWhen you have a moment\, please fill out the online input form in advance.\nLink in below\nOnline Medical form\n\n 	1. Medical form\n 	2. ⁠Diver activity\n 	3. Liability release\n 	4. ⁠Continuing education\n\nComplete the required fields on these pages\, enter your email address at the end\, and then confirm your email address by tapping 'Confirm Email Address' or '電子メールアドレスを確認' in the email you receive.\n\n\n\nPayment methods\nWe will send the payment email three days before the event. Payment can be made via credit card\, and there is no additional fee.\n\nCancellation\n3 days before … 50%\nThe day before … 80%\nCancellation on the day… 100%\n*None in case of poor sea conditions.\n\nTransportation\nOur shop is locating Onna Village\nIf you could stay nearby our shop we can pick you up with free of charge.\nIf you have a car we can meet up at dive site.\n\n 	Naha 8\,000JPY\n 	Ginowan 6000\n 	Chatan 4000\n 	Yomitan 3000\n 	Onna 2000\n\neach way for one group
URL:https://teal-orange.jp/dive-schedule/manza-3-boat-dives-dream-hole-2spots-left/
LOCATION:Seragaki port\, 瀬良垣漁港\, 国頭郡恩納村瀬良垣\, Okinawa\, 9040404\, 日本
CATEGORIES:Certified Divers Activity
ATTACH;FMTTYPE=image/jpeg:https://teal-orange.jp/wp-content/uploads/2024/03/A7_01428.jpg
ORGANIZER;CN="TEAL ORANGE DIVING":MAILTO:info@teal-orange.jp
END:VEVENT
BEGIN:VEVENT
DTSTART;TZID=Asia/Tokyo:20240414T063000
DTEND;TZID=Asia/Tokyo:20240414T140000
DTSTAMP:20260422T054433
CREATED:20240301T133124Z
LAST-MODIFIED:20240301T134638Z
UID:3275-1713076200-1713103200@teal-orange.jp
SUMMARY:Cape Hedo 2boat dives \, Drift and Lime stone cave
DESCRIPTION:What to expect\n\n\n\n\nCape Hedo is located at the northernmost tip of Okinawa Main Island and is a popular diving spot featuring the famous Hedo Dome (Ginama Stalactite Cave). With three additional dive points\, all offering drift diving\, the seasonal spot Payao is especially famous for encountering of oceanic blacktip reef sharks\, and schools of batfish. Each point is within a 15-minute boat ride from the port\, allowing us to return to the port after each dive.\nFeel free to contact us for alternative dates or if you have any preferences.\n\n\n\n\nWhatsApp\n\n\n\n\nPreparation before participation\n\n\nWhen you have a moment\, please fill out the online input form in advance.\nLink in below\nOnline Medical form\n\n1. Medical form\n2. ⁠Diver activity\n3. Liability release\n4. ⁠Continuing education\n\nComplete the required fields on these pages\, enter your email address at the end\, and then confirm your email address by tapping 'Confirm Email Address' or '電子メールアドレスを確認' in the email you receive.\n\n\n\nPayment methods\nWe will send the payment email three days before the event. Payment can be made via credit card\, and there is no additional fee.\n\nCancellation\n3 days before … 50%\nThe day before … 80%\nCancellation on the day… 100%\n*None in case of poor sea conditions.\n\nTransportation\nOur shop is locating Onna Village\nIf you could stay nearby our shop we can pick you up with free of charge.\nIf you have a car we can meet up at dive site.\nNaha 8\,000JPY each way\nGinowan 6000JPY\nChatan 4000JPY\nYomitan 3000JPY\nOnna 2000\neach way for one group
URL:https://teal-orange.jp/dive-schedule/cape-hedo-2boat-dives-drift-and-lime-stone-cave-4/
LOCATION:Ginama port\, 宜名真漁港\, 国頭郡国頭村宜名真\, Okinawa\, 9051422\, 日本
CATEGORIES:Certified Divers Activity
ATTACH;FMTTYPE=image/jpeg:https://teal-orange.jp/wp-content/uploads/2024/01/A7_00095_Original.jpeg
ORGANIZER;CN="TEAL ORANGE DIVING":MAILTO:info@teal-orange.jp
END:VEVENT
BEGIN:VEVENT
DTSTART;TZID=Asia/Tokyo:20240415T083000
DTEND;TZID=Asia/Tokyo:20240415T133000
DTSTAMP:20260422T054433
CREATED:20240301T132136Z
LAST-MODIFIED:20240301T132136Z
UID:3270-1713169800-1713187800@teal-orange.jp
SUMMARY:Gorilla-chop 2 shore dives(3 spots left)
DESCRIPTION:What to expect\n\n\n\n\nThe dive site "Gorilla Chop" derives its name from a rock formation that resembles a gorilla chopping. This is a spot enjoyable for all divers. With a shore entry\, the average depth is around 7 meters\, with a maximum depth of about 13 meters\, making it suitable for all types of diving such as experience dives\, training dives\, and configuration checks for technical diving. In winter\, you can encounter many nudibranchs and rare underwater creatures here.\nEANx\, SIDEMOUNT\, and Double tanks options are also available. Feel free to contact us for alternative dates or if you have any preferences.\n\n\n\n\nWhatsApp\n\n\n\n\n\n\n\n\nPreparation before participation\n\n\nWhen you have a moment\, please fill out the online input form in advance.\nLink in below\nOnline Medical form\n\n 	1. Medical form\n 	2. ⁠Diver activity\n 	3. Liability release\n 	4. ⁠Continuing education\n\nComplete the required fields on these pages\, enter your email address at the end\, and then confirm your email address by tapping 'Confirm Email Address' or '電子メールアドレスを確認' in the email you receive.\n\n\n\nPayment methods\nWe will send the payment email three days before the event. Payment can be made via credit card\, and there is no additional fee.\n\nCancellation\n\n\n 	3 days before … 50%\n 	The day before … 80%\n 	Cancellation on the day… 100%\n\n*None in case of poor sea conditions.\nThe cancellation policy for the Whale Swim excursion is as follows: There is no charge for cancellations made up to 11 days prior to the event. However\, a 100% cancellation fee applies for cancellations made within 10 days of the event.\n\n\n\nTransportation\nOur shop is locating Onna Village\nIf you could stay nearby our shop we can pick you up with free of charge.\nIf you have a car we can meet up at dive site.\n\n 	Naha 8\,000JPY\n 	Ginowan 6000\n 	Chatan 4000\n 	Yomitan 3000\n 	Onna 2000\n\neach way for one group
URL:https://teal-orange.jp/dive-schedule/gorilla-chop-2-shore-dives3-spots-left-3/
LOCATION:Sakimotobu\, ５２３２\, 沖縄県国頭郡本部町崎本部\, Okinawa\, 〒9050225\, 日本
CATEGORIES:Certified Divers Activity
ATTACH;FMTTYPE=image/jpeg:https://teal-orange.jp/wp-content/uploads/2024/03/A7_01451.jpg
ORGANIZER;CN="TEAL ORANGE DIVING":MAILTO:info@teal-orange.jp
END:VEVENT
BEGIN:VEVENT
DTSTART;TZID=Asia/Tokyo:20240416T083000
DTEND;TZID=Asia/Tokyo:20240416T130000
DTSTAMP:20260422T054433
CREATED:20240409T105001Z
LAST-MODIFIED:20240409T105001Z
UID:3325-1713256200-1713272400@teal-orange.jp
SUMMARY:Gorilla-chop 2 shore dives(3 spots left)
DESCRIPTION:What to expect\n\n\n\n\nThe dive site "Gorilla Chop" derives its name from a rock formation that resembles a gorilla chopping. This is a spot enjoyable for all divers. With a shore entry\, the average depth is around 7 meters\, with a maximum depth of about 13 meters\, making it suitable for all types of diving such as experience dives\, training dives\, and configuration checks for technical diving. In winter\, you can encounter many nudibranchs and rare underwater creatures here.\nEANx\, SIDEMOUNT\, and Double tanks options are also available. Feel free to contact us for alternative dates or if you have any preferences.\n\n\n\n\nWhatsApp\n\n\n\n\n\n\n\n\nPreparation before participation\n\n\nWhen you have a moment\, please fill out the online input form in advance.\nLink in below\nOnline Medical form\n\n 	1. Medical form\n 	2. ⁠Diver activity\n 	3. Liability release\n 	4. ⁠Continuing education\n\nComplete the required fields on these pages\, enter your email address at the end\, and then confirm your email address by tapping 'Confirm Email Address' or '電子メールアドレスを確認' in the email you receive.\n\n\n\nPayment methods\nWe will send the payment email three days before the event. Payment can be made via credit card\, and there is no additional fee.\n\nCancellation\n\n\n 	3 days before … 50%\n 	The day before … 80%\n 	Cancellation on the day… 100%\n\n*None in case of poor sea conditions.\nThe cancellation policy for the Whale Swim excursion is as follows: There is no charge for cancellations made up to 11 days prior to the event. However\, a 100% cancellation fee applies for cancellations made within 10 days of the event.\n\n\n\nTransportation\nOur shop is locating Onna Village\nIf you could stay nearby our shop we can pick you up with free of charge.\nIf you have a car we can meet up at dive site.\n\n 	Naha 8\,000JPY\n 	Ginowan 6000\n 	Chatan 4000\n 	Yomitan 3000\n 	Onna 2000\n\neach way for one group
URL:https://teal-orange.jp/dive-schedule/gorilla-chop-2-shore-dives3-spots-left/
LOCATION:Sakimotobu\, ５２３２\, 沖縄県国頭郡本部町崎本部\, Okinawa\, 〒9050225\, 日本
CATEGORIES:Certified Divers Activity
ATTACH;FMTTYPE=image/jpeg:https://teal-orange.jp/wp-content/uploads/2024/03/A7_01451.jpg
ORGANIZER;CN="TEAL ORANGE DIVING":MAILTO:info@teal-orange.jp
END:VEVENT
BEGIN:VEVENT
DTSTART;VALUE=DATE:20240425
DTEND;VALUE=DATE:20240427
DTSTAMP:20260422T054433
CREATED:20240409T104807Z
LAST-MODIFIED:20240409T105022Z
UID:3323-1714003200-1714175999@teal-orange.jp
SUMMARY:ADVANCED OPEN WATER DIVER COURSE (2spot left)
DESCRIPTION:Feel free to contact us for alternative dates or if you have any preferences. \nWhatsApp\n\nPreparation before participation\n\nWhen you have a moment\, please fill out the online input form in advance.\nLink in below\nOnline Medical form \n1. Medical form\n2. ⁠Diver activity\n3. Liability release\n4. ⁠Continuing education \nComplete the required fields on these pages\, enter your email address at the end\, and then confirm your email address by tapping 'Confirm Email Address' or '電子メールアドレスを確認' in the email you receive. \n\n\nPayment methods\nWe will send the payment email three days before the event. Payment can be made via credit card\, and there is no additional fee.\n\nCancellation\n3 days before … 50%\nThe day before … 80%\nCancellation on the day… 100%\n*None in case of poor sea conditions.\n\nTransportation\nOur shop is locating Onna Village\nIf you could stay nearby our shop we can pick you up with free of charge.\nIf you have a car we can meet up at dive site.\nNaha 8\,000JPY each way\nGinowan 6000JPY\nChatan 4000JPY\nYomitan 3000JPY\nOnna 2000\neach way for one group
URL:https://teal-orange.jp/dive-schedule/advanced-open-water-diver-course-2spot-left/
LOCATION:Seragaki port\, 瀬良垣漁港\, 国頭郡恩納村瀬良垣\, Okinawa\, 9040404\, 日本
CATEGORIES:ADVANCED OPEN WATER DIVER,SCUBA COURSE
ATTACH;FMTTYPE=image/jpeg:https://teal-orange.jp/wp-content/uploads/2024/02/A7_07110.jpg
ORGANIZER;CN="TEAL ORANGE DIVING":MAILTO:info@teal-orange.jp
END:VEVENT
BEGIN:VEVENT
DTSTART;VALUE=DATE:20240429
DTEND;VALUE=DATE:20240502
DTSTAMP:20260422T054433
CREATED:20240117T041935Z
LAST-MODIFIED:20240117T042548Z
UID:2402-1714348800-1714607999@teal-orange.jp
SUMMARY:PADI Sidemount diver course (1slot left)
DESCRIPTION:Feel free to contact us for alternative dates or if you have any preferences. \nWhatsApp\n\nPreparation before participation\n\nWhen you have a moment\, please fill out the online input form in advance.\nLink in below\nOnline Medical form \n1. Medical form\n2. ⁠Diver activity\n3. Liability release\n4. ⁠Continuing education \nComplete the required fields on these pages\, enter your email address at the end\, and then confirm your email address by tapping 'Confirm Email Address' or '電子メールアドレスを確認' in the email you receive. \n\n\nPayment methods\nWe will send the payment email three days before the event. Payment can be made via credit card\, and there is no additional fee.\n\nCancellation\n3 days before … 50%\nThe day before … 80%\nCancellation on the day… 100%\n*None in case of poor sea conditions.\n\nTransportation\nOur shop is locating Onna Village\nIf you could stay nearby our shop we can pick you up with free of charge.\nIf you have a car we can meet up at dive site. \n\nNaha 8\,000JPY\nGinowan 6000\nChatan 4000\nYomitan 3000\nOnna 2000\n\neach way for one group
URL:https://teal-orange.jp/dive-schedule/padi-sidemount-diver-course/
CATEGORIES:SCUBA COURSE
ATTACH;FMTTYPE=image/jpeg:https://teal-orange.jp/wp-content/uploads/2024/01/IMG_1888.jpg
END:VEVENT
END:VCALENDAR